Workbook
Name ③梱包サイズ付与: #REF!
Name asef: #N/A
Name B: #REF!
Name B1L: #REF!
Name Ｂ自入金比率: #REF!
Name COUNT: #REF!
Name CST_001: #REF!
Name CST_002: #REF!
Name CST_003: #REF!
Name CST_004: #REF!
Name CST_005: #REF!
Name DATA: #REF!
Name DATA2: #REF!
Name DC_001: #REF!
Name DC_002: #REF!
Name DC_003: #REF!
Name DC_004: #REF!
Name DC_005: #REF!
Name DC_006: #REF!
Name DC_007: #REF!
Name DC_008: #REF!
Name DC_009: #REF!
Name DC_010: #REF!
Name DC_011: #REF!
Name DC_012: #REF!
Name DC_013: #REF!
Name DC_014: #REF!
Name DC_015: #REF!
Name DC_016: #REF!
Name DC_017: #REF!
Name DC_018: #REF!
Name DC_019: #REF!
Name DC_020: #REF!
Name DC_021: #REF!
Name DC_022: #REF!
Name DC_023: #REF!
Name DC_024: #REF!
Name DC_025: #REF!
Name DC_050: #REF!
Name DC_051: #REF!
Name DC_052: #REF!
Name DC_053: #REF!
Name DC_054: #REF!
Name DC_055: #REF!
Name DC_056: #REF!
Name DC_HONBUN01: #REF!
Name DC_HONBUN02: #REF!
Name DC_HONBUN03: #REF!
Name DC_HONBUN04: #REF!
Name DC_HONBUN05: #REF!
Name DC_HONBUN06: #REF!
Name DC_HONBUN07: #REF!
Name DC_HONBUN08: #REF!
Name DC_HONBUN09: #REF!
Name DC_HONBUN10: #REF!
Name DC_HONBUN11: #REF!
Name DC_HONBUN12: #REF!
Name DC_HONBUN13: #REF!
Name DC_HONBUN14: #REF!
Name DC_HONBUN15: #REF!

Sheet DDPSOHFU参照箇所
A1: サブシステムID | B1: プログラムID | C1: DDPSOHFU | D1: 変数名 | E1: 日本語名称 | F1: 移行先テーブル名 | G1: 移行先カラム名 | H1: 移行先論理名 | I1: リビルド方針 | J1: 危険
A2: BU0390_自社出発入力 | B2: BU15200P | C2: DDPSOHFU | D2: KSHSSHKB | E2: 運行車区分 | F2: =_xlfn.XLOOKUP($D2,RDSFIS対比表_VPSOHFU!$B$7:$B$50,RDSFIS対比表_VPSOHFU!W$7:W$50) -> RDSFIS | G2: =_xlfn.XLOOKUP($D2,RDSFIS対比表_VPSOHFU!$B$7:$B$50,RDSFIS対比表_VPSOHFU!X$7:X$50) -> RSFQBNKB | H2: =_xlfn.XLOOKUP($D2,RDSFIS対比表_VPSOHFU!$B$7:$B$50,RDSFIS対比表_VPSOHFU!Y$7:Y$50) -> 便区分 | I2: =_xlfn.XLOOKUP($G2,RDSFIS_REABAT02リビルド方針!$C$2:$C$84,RDSFIS_REABAT02リビルド方針!D$2:D$84) -> ダイレクト | J2: =$I2<>"ダイレクト" -> FALSE
A3: BU0390_自社出発入力 | B3: BU15200P | C3: DDPSOHFU | D3: KSHSJONC | E3: 直卸他社コード | F3: =_xlfn.XLOOKUP($D3,RDSFIS対比表_VPSOHFU!$B$7:$B$50,RDSFIS対比表_VPSOHFU!W$7:W$50) -> RDSFIS | G3: =_xlfn.XLOOKUP($D3,RDSFIS対比表_VPSOHFU!$B$7:$B$50,RDSFIS対比表_VPSOHFU!$X$7:$X$50) -> RSFQJONC | H3: =_xlfn.XLOOKUP($D3,RDSFIS対比表_VPSOHFU!$B$7:$B$50,RDSFIS対比表_VPSOHFU!Y$7:Y$50) -> 直卸他社コード | I3: =_xlfn.XLOOKUP($G3,RDSFIS_REABAT02リビルド方針!$C$2:$C$84,RDSFIS_REABAT02リビルド方針!D$2:D$84) -> ダイレクトは追加時のみ 更新時はリアル２ | J3: =$I3<>"ダイレクト" -> TRUE
A4: BU0390_自社出発入力 | B4: BU15200P | C4: DDPSOHFU | D4: KSHSYYMD | E4: 到着予定年月日 | F4: =_xlfn.XLOOKUP($D4,RDSFIS対比表_VPSOHFU!$B$7:$B$50,RDSFIS対比表_VPSOHFU!W$7:W$50) -> RDSFIS | G4: =_xlfn.XLOOKUP($D4,RDSFIS対比表_VPSOHFU!$B$7:$B$50,RDSFIS対比表_VPSOHFU!$X$7:$X$50) -> RSFQTOYO | H4: =_xlfn.XLOOKUP($D4,RDSFIS対比表_VPSOHFU!$B$7:$B$50,RDSFIS対比表_VPSOHFU!Y$7:Y$50) -> 到着予定年月日 | I4: =_xlfn.XLOOKUP($G4,RDSFIS_REABAT02リビルド方針!$C$2:$C$84,RDSFIS_REABAT02リビルド方針!D$2:D$84) -> ダイレクト | J4: =$I4<>"ダイレクト" -> FALSE
A5: BU0390_自社出発入力 | B5: BU15200P | C5: DDPSOHFU | D5: KSHSSHKB | E5: 運行車区分 | F5: =_xlfn.XLOOKUP($D5,RDSFIS対比表_VPSOHFU!$B$7:$B$50,RDSFIS対比表_VPSOHFU!W$7:W$50) -> RDSFIS | G5: =_xlfn.XLOOKUP($D5,RDSFIS対比表_VPSOHFU!$B$7:$B$50,RDSFIS対比表_VPSOHFU!$X$7:$X$50) -> RSFQBNKB | H5: =_xlfn.XLOOKUP($D5,RDSFIS対比表_VPSOHFU!$B$7:$B$50,RDSFIS対比表_VPSOHFU!Y$7:Y$50) -> 便区分 | I5: =_xlfn.XLOOKUP($G5,RDSFIS_REABAT02リビルド方針!$C$2:$C$84,RDSFIS_REABAT02リビルド方針!D$2:D$84) -> ダイレクト | J5: =$I5<>"ダイレクト" -> FALSE
A6: BU0390_自社出発入力 | B6: BU15200P | C6: DDPSOHFU | D6: KSHSYSCD | E6: 傭車会社コート゛ | F6: =_xlfn.XLOOKUP($D6,RDSFIS対比表_VPSOHFU!$B$7:$B$50,RDSFIS対比表_VPSOHFU!W$7:W$50) -> RDSFIS | G6: =_xlfn.XLOOKUP($D6,RDSFIS対比表_VPSOHFU!$B$7:$B$50,RDSFIS対比表_VPSOHFU!$X$7:$X$50) -> RSFQYOCD | H6: =_xlfn.XLOOKUP($D6,RDSFIS対比表_VPSOHFU!$B$7:$B$50,RDSFIS対比表_VPSOHFU!Y$7:Y$50) -> 傭車コード | I6: =_xlfn.XLOOKUP($G6,RDSFIS_REABAT02リビルド方針!$C$2:$C$84,RDSFIS_REABAT02リビルド方針!D$2:D$84) -> ダイレクトは追加時のみ 更新時はリアル２ | J6: =$I6<>"ダイレクト" -> TRUE
A7: BU0390_自社出発入力 | B7: BU15200P | C7: DDPSOHFU | D7: KSHSSHBN | E7: 車番 | F7: =_xlfn.XLOOKUP($D7,RDSFIS対比表_VPSOHFU!$B$7:$B$50,RDSFIS対比表_VPSOHFU!W$7:W$50) -> RDSFIS | G7: =_xlfn.XLOOKUP($D7,RDSFIS対比表_VPSOHFU!$B$7:$B$50,RDSFIS対比表_VPSOHFU!$X$7:$X$50) -> RSFQSHAA | H7: =_xlfn.XLOOKUP($D7,RDSFIS対比表_VPSOHFU!$B$7:$B$50,RDSFIS対比表_VPSOHFU!Y$7:Y$50) -> 積載社番 | I7: =_xlfn.XLOOKUP($G7,RDSFIS_REABAT02リビルド方針!$C$2:$C$84,RDSFIS_REABAT02リビルド方針!D$2:D$84) -> ダイレクト | J7: =$I7<>"ダイレクト" -> FALSE
A8: BU0390_自社出発入力 | B8: BU15200P | C8: DDPSOHFU | D8: KSHSDKB1 | E8: テ゛ータ区分 | F8: =_xlfn.XLOOKUP($D8,RDSFIS対比表_VPSOHFU!$B$7:$B$50,RDSFIS対比表_VPSOHFU!W$7:W$50) -> RDSFIS | G8: =_xlfn.XLOOKUP($D8,RDSFIS対比表_VPSOHFU!$B$7:$B$50,RDSFIS対比表_VPSOHFU!$X$7:$X$50) -> RSFQTOKB | H8: =_xlfn.XLOOKUP($D8,RDSFIS対比表_VPSOHFU!$B$7:$B$50,RDSFIS対比表_VPSOHFU!Y$7:Y$50) -> 到着済区分 | I8: =_xlfn.XLOOKUP($G8,RDSFIS_REABAT02リビルド方針!$C$2:$C$84,RDSFIS_REABAT02リビルド方針!D$2:D$84) -> ダイレクトは追加時のみ 更新時はリアル２ | J8: =$I8<>"ダイレクト" -> TRUE
A9: BU0390_自社出発入力 | B9: BU15200P | C9: DDPSOHFU | D9: KSHSSRNO | E9: 指令書ＮＯ | F9: =_xlfn.XLOOKUP($D9,RDSFIS対比表_VPSOHFU!$B$7:$B$50,RDSFIS対比表_VPSOHFU!W$7:W$50) -> RDSFIS | G9: =_xlfn.XLOOKUP($D9,RDSFIS対比表_VPSOHFU!$B$7:$B$50,RDSFIS対比表_VPSOHFU!$X$7:$X$50) -> RSFQSREI | H9: =_xlfn.XLOOKUP($D9,RDSFIS対比表_VPSOHFU!$B$7:$B$50,RDSFIS対比表_VPSOHFU!Y$7:Y$50) -> 指令書ＮＯ | I9: =_xlfn.XLOOKUP($G9,RDSFIS_REABAT02リビルド方針!$C$2:$C$84,RDSFIS_REABAT02リビルド方針!D$2:D$84) -> ダイレクトは追加時のみ 更新時はリアル２ | J9: =$I9<>"ダイレクト" -> TRUE
A10: BU0390_自社出発入力 | B10: BU15200P | C10: DDPSOHFU | D10: KSHSHYMD | E10: 発送年月日 | F10: =_xlfn.XLOOKUP($D10,RDSFIS対比表_VPSOHFU!$B$7:$B$50,RDSFIS対比表_VPSOHFU!W$7:W$50) -> RDSFIS | G10: =_xlfn.XLOOKUP($D10,RDSFIS対比表_VPSOHFU!$B$7:$B$50,RDSFIS対比表_VPSOHFU!$X$7:$X$50) -> RSFQYMD1 | H10: =_xlfn.XLOOKUP($D10,RDSFIS対比表_VPSOHFU!$B$7:$B$50,RDSFIS対比表_VPSOHFU!Y$7:Y$50) -> 発送年月日 | I10: =_xlfn.XLOOKUP($G10,RDSFIS_REABAT02リビルド方針!$C$2:$C$84,RDSFIS_REABAT02リビルド方針!D$2:D$84) -> ダイレクト | J10: =$I10<>"ダイレクト" -> FALSE
A11: BU0390_自社出発入力 | B11: BU15200P | C11: DDPSOHFU | D11: KSHSHTIM | E11: 出発時分 | F11: =_xlfn.XLOOKUP($D11,RDSFIS対比表_VPSOHFU!$B$7:$B$50,RDSFIS対比表_VPSOHFU!W$7:W$50) -> RDSFIS | G11: =_xlfn.XLOOKUP($D11,RDSFIS対比表_VPSOHFU!$B$7:$B$50,RDSFIS対比表_VPSOHFU!$X$7:$X$50) -> RSFQHHM1 | H11: =_xlfn.XLOOKUP($D11,RDSFIS対比表_VPSOHFU!$B$7:$B$50,RDSFIS対比表_VPSOHFU!Y$7:Y$50) -> 発送時分 | I11: =_xlfn.XLOOKUP($G11,RDSFIS_REABAT02リビルド方針!$C$2:$C$84,RDSFIS_REABAT02リビルド方針!D$2:D$84) -> ダイレクト | J11: =$I11<>"ダイレクト" -> FALSE
A12: BU0390_自社出発入力 | B12: BU15200P | C12: DDPSOHFU | D12: KSHSTUTN | E12: 積店コート゛ | F12: =_xlfn.XLOOKUP($D12,RDSFIS対比表_VPSOHFU!$B$7:$B$50,RDSFIS対比表_VPSOHFU!W$7:W$50) -> RDSFIS | G12: =_xlfn.XLOOKUP($D12,RDSFIS対比表_VPSOHFU!$B$7:$B$50,RDSFIS対比表_VPSOHFU!$X$7:$X$50) -> RSFQHTCD | H12: =_xlfn.XLOOKUP($D12,RDSFIS対比表_VPSOHFU!$B$7:$B$50,RDSFIS対比表_VPSOHFU!Y$7:Y$50) -> 発店コート゛ | I12: =_xlfn.XLOOKUP($G12,RDSFIS_REABAT02リビルド方針!$C$2:$C$84,RDSFIS_REABAT02リビルド方針!D$2:D$84) -> ダイレクト | J12: =$I12<>"ダイレクト" -> FALSE
A13: BU0390_自社出発入力 | B13: BU15200P | C13: DDPSOHFU | D13: KSHSTUTN | E13: 積店コート゛ | F13: =_xlfn.XLOOKUP($D13,RDSFIS対比表_VPSOHFU!$B$7:$B$50,RDSFIS対比表_VPSOHFU!W$7:W$50) -> RDSFIS | G13: =_xlfn.XLOOKUP($D13,RDSFIS対比表_VPSOHFU!$B$7:$B$50,RDSFIS対比表_VPSOHFU!$X$7:$X$50) -> RSFQHTCD | H13: =_xlfn.XLOOKUP($D13,RDSFIS対比表_VPSOHFU!$B$7:$B$50,RDSFIS対比表_VPSOHFU!Y$7:Y$50) -> 発店コート゛ | I13: =_xlfn.XLOOKUP($G13,RDSFIS_REABAT02リビルド方針!$C$2:$C$84,RDSFIS_REABAT02リビルド方針!D$2:D$84) -> ダイレクト | J13: =$I13<>"ダイレクト" -> FALSE
A14: BU0390_自社出発入力 | B14: BU15200P | C14: DDPSOHFU | D14: KSHSHTCD | E14: 発地コード | F14: =_xlfn.XLOOKUP($D14,RDSFIS対比表_VPSOHFU!$B$7:$B$50,RDSFIS対比表_VPSOHFU!W$7:W$50) -> RDSFIS | G14: =_xlfn.XLOOKUP($D14,RDSFIS対比表_VPSOHFU!$B$7:$B$50,RDSFIS対比表_VPSOHFU!$X$7:$X$50) -> RSFQHCCD | H14: =_xlfn.XLOOKUP($D14,RDSFIS対比表_VPSOHFU!$B$7:$B$50,RDSFIS対比表_VPSOHFU!Y$7:Y$50) -> 発地コート゛ | I14: =_xlfn.XLOOKUP($G14,RDSFIS_REABAT02リビルド方針!$C$2:$C$84,RDSFIS_REABAT02リビルド方針!D$2:D$84) -> ダイレクト | J14: =$I14<>"ダイレクト" -> FALSE
... A151: XB0040_送り状No.入力（傭直集） | B151: XB18200P | C151: DDPSOHFU | D151: KSHSYYMD | E151: 到着予定年月日 | F151: =_xlfn.XLOOKUP($D151,RDSFIS対比表_VPSOHFU!$B$7:$B$50,RDSFIS対比表_VPSOHFU!W$7:W$50) -> RDSFIS | G151: =_xlfn.XLOOKUP($D151,RDSFIS対比表_VPSOHFU!$B$7:$B$50,RDSFIS対比表_VPSOHFU!$X$7:$X$50) -> RSFQTOYO | H151: =_xlfn.XLOOKUP($D151,RDSFIS対比表_VPSOHFU!$B$7:$B$50,RDSFIS対比表_VPSOHFU!Y$7:Y$50) -> 到着予定年月日 | I151: =_xlfn.XLOOKUP($G151,RDSFIS_REABAT02リビルド方針!$C$2:$C$84,RDSFIS_REABAT02リビルド方針!D$2:D$84) -> ダイレクト | J151: =$I151<>"ダイレクト" -> FALSE

Sheet 危険個所抽出
B1: DDPSOHFU | C1: 変数名 | D1: 日本語名称 | E1: 移行先テーブル名 | F1: 移行先カラム名 | G1: 移行先論理名 | H1: リビルド方針 | I1: 危険 | J1: 備考
A2: ｽﾋﾟﾙ注意→ | B2: {=_xlfn.UNIQUE(_xlfn._xlws.FILTER(テーブル1[[DDPSOHFU]:[危険]],テーブル1[危険]=TRUE))} -> DDPSOHFU | C2: KSHSJONC | D2: 直卸他社コード | E2: RDSFIS | F2: RSFQJONC | G2: 直卸他社コード | H2: ダイレクトは追加時のみ 更新時はリアル２ | I2: TRUE | J2: 直集の画面で更新可能。対応必要。
B3: DDPSOHFU | C3: KSHSYSCD | D3: 傭車会社コート゛ | E3: RDSFIS | F3: RSFQYOCD | G3: 傭車コード | H3: ダイレクトは追加時のみ 更新時はリアル２ | I3: TRUE | J3: 傭車の画面で書き換え不可。対応不要？
B4: DDPSOHFU | C4: KSHSDKB1 | D4: テ゛ータ区分 | E4: RDSFIS | F4: RSFQTOKB | G4: 到着済区分 | H4: ダイレクトは追加時のみ 更新時はリアル２ | I4: TRUE | J4: 発送のほうの区分との間違い。 対応不要？
B5: DDPSOHFU | C5: KSHSSRNO | D5: 指令書ＮＯ | E5: RDSFIS | F5: RSFQSREI | G5: 指令書ＮＯ | H5: ダイレクトは追加時のみ 更新時はリアル２ | I5: TRUE | J5: 書き換えられる箇所が見当たらない。対応不要？
B6: DDPSOHFU | C6: KSHSTORE | D6: セミトレ車番 | E6: RDSFIS | F6: RSFQSHAB | G6: セミトレ社番 | H6: 更新箇所無し | I6: TRUE | J6: DDPにしか書き込んでいない。このままでは再表示時に出なくなる。対応必要。
B7: DDPSOHFU | C7: KSHSJKKN | D7: 直集軒数 | E7: RDSFIS | F7: RSFQFKJK | G7: 直集 | H7: リアル２ | I7: TRUE | J7: 更新可能。対応必要。
B8: DDPSOHFU | C8: KSHSKETA | D8: 傭車形態 | E8: RDSFIS | F8: RSFQKKTI | G8: 形態 | H8: ダイレクトは追加時のみ 更新時はリアル２ | I8: TRUE | J8: 傭車の画面で書き換え不可。対応不要？
B9: DDPSOHFU | C9: KSHSYORO | D9: 定額傭車料 | E9: RDSFIS | F9: RSFQKTGY | G9: 定額傭車料 | H9: ダイレクトは追加時のみ 更新時はリアル２ | I9: TRUE | J9: 傭車の画面で書き換え不可。対応不要？

Sheet RDSFIS対比表_VPSOHFU
A1: システム名 | C1: DASD | D1: DDLファイル名 | E1: No | G1: テーブル説明 | O1: 作成者 | P1: 作成日
A2: 現行可視化 | O2: 岡 | P2: 45701
A3: 物理テーブル名 | C3: 論理テーブル名 | E3: INCLUDE | L3: 総桁数 | O3: 更新者 | P3: 更新日
A4: VPSOHFU | C4: ＤＤＰ 送付書マスター | E4: DDPSOHFU | L4: 140 | O4: 渡部 | P4: 46279
A6: No. | B6: 物理名 | C6: 論理名 | D6: データ型 | E6: 桁数 | F6: 小数 | G6: GP | H6: ARR | I6: LV | J6: PK | K6: FK | L6: NULL | M6: 初期値 | N6: 備 考 | Q6: 代替DD名 | R6: 代替物理名 | S6: 論理名 | T6: 旧属性 | U6: 旧桁数 | V6: 旧小数 | W6: テーブル名(RDB) | X6: カラム名 | Y6: 論理名 | Z6: データ型 | AA6: 桁数 | AB6: 小数 | AC6: コメント | AD6: 重複チェック
A7: =ROW()-6 -> 1 | B7: KSHSSFNO | C7: 発送伝票送付書ＮＯ | D7: PIC | E7: 8 | I7: 2 | J7: 1 | N7: KEY | W7: RDSFIS | X7: RSFQSONO | Y7: 送付書ＮＯ | Z7: NCHAR | AA7: 8 | AD7: =COUNTIF($Y$7:$Y$10050, Y7) -> 1
A8: =ROW()-6 -> 2 | B8: KSHSSRNO | C8: 指令書ＮＯ | D8: PIC | E8: 9 | I8: 2 | W8: RDSFIS | X8: RSFQSREI | Y8: 指令書ＮＯ | Z8: NCHAR | AA8: 9 | AD8: =COUNTIF($Y$7:$Y$10050, Y8) -> 1
A9: =ROW()-6 -> 3 | B9: KSHSSKKB | C9: 削除区分 | D9: PIC | E9: 1 | I9: 2 | W9: RDSFIS | X9: RSFQQKJY | Y9: 削除区分 | Z9: NCHAR | AA9: 1 | AD9: =COUNTIF($Y$7:$Y$10050, Y9) -> 1
A10: =ROW()-6 -> 4 | B10: KSHSYYMD | C10: 到着予定年月日 | D10: PIC | E10: 6 | I10: 2 | W10: RDSFIS | X10: RSFQTOYO | Y10: 到着予定年月日 | Z10: NCHAR | AA10: 8 | AD10: =COUNTIF($Y$7:$Y$10050, Y10) -> 1
A11: =ROW()-6 -> 5 | B11: KSHSHASO | C11: 発送 | G11: G | I11: 2 | AD11: =COUNTIF($Y$7:$Y$10050, Y11) -> 0
A12: =ROW()-6 -> 6 | B12: KSHSDKB1 | C12: テ゛ータ区分 | D12: PIC | E12: 1 | I12: 3 | W12: RDSFIS | X12: RSFQTOKB | Y12: 到着済区分 | Z12: NCHAR | AA12: 1 | AD12: =COUNTIF($Y$7:$Y$10050, Y12) -> 2
A13: =ROW()-6 -> 7 | B13: KSHSGKB1 | C13: 画面区分 | D13: PIC | E13: 2 | I13: 3 | AD13: =COUNTIF($Y$7:$Y$10050, Y13) -> 0
A14: =ROW()-6 -> 8 | B14: KSHSHYMD | C14: 発送年月日 | D14: PIC | E14: 6 | I14: 3 | W14: RDSFIS | X14: RSFQYMD1 | Y14: 発送年月日 | Z14: NCHAR | AA14: 8 | AD14: =COUNTIF($Y$7:$Y$10050, Y14) -> 1
A15: =ROW()-6 -> 9 | B15: KSHSHTIM | C15: 出発時分 | D15: PIC | E15: 4 | I15: 3 | W15: RDSFIS | X15: RSFQHHM1 | Y15: 発送時分 | Z15: NCHAR | AA15: 4 | AD15: =COUNTIF($Y$7:$Y$10050, Y15) -> 1
A16: =ROW()-6 -> 10 | B16: KSHSTUTN | C16: 積店コート゛ | D16: PIC | E16: 4 | I16: 3 | W16: RDSFIS | X16: RSFQHTCD | Y16: 発店コート゛ | Z16: NCHAR | AA16: 4 | AD16: =COUNTIF($Y$7:$Y$10050, Y16) -> 1
A17: =ROW()-6 -> 11 | B17: KSHSHTCD | C17: 発地コード | D17: PIC | E17: 5 | I17: 3 | W17: RDSFIS | X17: RSFQHCCD | Y17: 発地コート゛ | Z17: NCHAR | AA17: 5 | AD17: =COUNTIF($Y$7:$Y$10050, Y17) -> 1
A18: =ROW()-6 -> 12 | B18: KSHSORTN | C18: 卸店コート゛ | D18: PIC | E18: 4 | I18: 3 | W18: RDSFIS | X18: RSFQLSTN | Y18: 最終扱店所コート゛ | Z18: NCHAR | AA18: 4 | AD18: =COUNTIF($Y$7:$Y$10050, Y18) -> 1 | AE18: 第22版 変更
A19: =ROW()-6 -> 13 | B19: KSHSCKCD | C19: 着地コード | D19: PIC | E19: 5 | I19: 3 | W19: RDSFIS | X19: RSFQCCCD | Y19: 着地コート゛ | Z19: NCHAR | AA19: 5 | AD19: =COUNTIF($Y$7:$Y$10050, Y19) -> 1
A20: =ROW()-6 -> 14 | B20: KSHSSHKB | C20: 運行車区分 | D20: PIC | E20: 2 | I20: 3 | W20: RDSFIS | X20: RSFQBNKB | Y20: 便区分 | Z20: NCHAR | AA20: 2 | AD20: =COUNTIF($Y$7:$Y$10050, Y20) -> 1
A21: =ROW()-6 -> 15 | B21: KSHSSHBN | C21: 車番 | D21: PIC | E21: 5 | I21: 3 | W21: RDSFIS | X21: RSFQSHAA | Y21: 積載社番 | Z21: NCHAR | AA21: 5 | AD21: =COUNTIF($Y$7:$Y$10050, Y21) -> 2
A22: =ROW()-6 -> 16 | B22: KSHSTORE | C22: セミトレ車番 | D22: PIC | E22: 5 | I22: 3 | W22: RDSFIS | X22: RSFQSHAB | Y22: セミトレ社番 | Z22: NCHAR | AA22: 5 | AD22: =COUNTIF($Y$7:$Y$10050, Y22) -> 1
A23: =ROW()-6 -> 17 | B23: KSHSYOSH | C23: 傭車の場合 | G23: G | I23: 3 | AD23: =COUNTIF($Y$7:$Y$10050, Y23) -> 0
A24: =ROW()-6 -> 18 | B24: KSHSYSCD | C24: 傭車会社コート゛ | D24: PIC | E24: 7 | I24: 4 | W24: RDSFIS | X24: RSFQYOCD | Y24: 傭車コード | Z24: NCHAR | AA24: 7 | AC24: RSFQBNKB[便区分] = "02"の場合セットされている。 | AD24: =COUNTIF($Y$7:$Y$10050, Y24) -> 1 | AE24: 第22版 変更
A25: =ROW()-6 -> 19 | B25: KSHSOWKB | C25: ｏ・ｗ区分 | D25: PIC | E25: 1 | I25: 4 | W25: RDSFIS | X25: RSFQOWKB | Y25: ｏｗ区分 | Z25: NCHAR | AA25: 1 | AC25: RSFQBNKB[便区分] = "02"の場合セットされている。 | AD25: =COUNTIF($Y$7:$Y$10050, Y25) -> 1 | AE25: 第22版 変更
A26: =ROW()-6 -> 20 | B26: KSHSSHGO | C26: 車号 | D26: PIC | E26: 5 | I26: 4 | W26: RDSFIS | X26: RSFQSHAA | Y26: 積載社番 | Z26: NCHAR | AA26: 5 | AC26: RSFQBNKB[便区分] = "02"の場合セットされている。 | AD26: =COUNTIF($Y$7:$Y$10050, Y26) -> 2 | AE26: 第22版 変更
A27: =ROW()-6 -> 21 | B27: KSHSHYTN | C27: 標屯 | D27: DEC FIXED | E27: 2 | F27: 1 | I27: 4 | W27: RDSFIS | X27: RSFQHYTO | Y27: 標屯 | Z27: DECIMAL | AA27: 3 | AB27: 1 | AC27: RSFQBNKB[便区分] = "02"の場合セットされている。 | AD27: =COUNTIF($Y$7:$Y$10050, Y27) -> 1 | AE27: 第22版 変更
A28: =ROW()-6 -> 22 | B28: KSHSKETA | C28: 傭車形態 | D28: PIC | E28: 1 | I28: 4 | N28: 2:屯当り3:定額 | W28: RDSFIS | X28: RSFQKKTI | Y28: 形態 | Z28: NCHAR | AA28: 1 | AC28: RSFQBNKB[便区分] = "02"の場合セットされている。 | AD28: =COUNTIF($Y$7:$Y$10050, Y28) -> 1 | AE28: 第22版 変更
A29: =ROW()-6 -> 23 | B29: KSHSYORO | C29: 定額傭車料 | D29: DEC FIXED | E29: 4 | I29: 4 | W29: RDSFIS | X29: RSFQKTGY | Y29: 定額傭車料 | Z29: DECIMAL | AA29: 7 | AB29: 0 | AC29: RSFQBNKB[便区分] = "02"の場合セットされている。 | AD29: =COUNTIF($Y$7:$Y$10050, Y29) -> 1 | AE29: 第22版 変更
A30: =ROW()-6 -> 24 | B30: KSHSJKKN | C30: 直集軒数 | D30: DEC FIXED | E30: 2 | I30: 3 | W30: RDSFIS | X30: RSFQFKJK | Y30: 直集 | Z30: DECIMAL | AA30: 7 | AB30: 0 | AC30: RSFQBNKB[便区分] = "02"の場合セットされている。 | AD30: =COUNTIF($Y$7:$Y$10050, Y30) -> 1 | AE30: 第22版 変更
A31: =ROW()-6 -> 25 | B31: KSHSSHHO | C31: 一車保険料 | D31: DEC FIXED | E31: 4 | I31: 3 | W31: RDSFIS | X31: RSFQQHKN | Y31: 一車保険料 | Z31: DECIMAL | AA31: 5 | AB31: 0 | AC31: RSFQBNKB[便区分] = "02"の場合セットされている。 | AD31: =COUNTIF($Y$7:$Y$10050, Y31) -> 1 | AE31: 第22版 変更
A32: =ROW()-6 -> 26 | B32: KSHSTOKB | C32: 積区分 | D32: PIC | E32: 1 | I32: 3 | N32: 1:有0:無 | W32: RDSFIS | X32: RSFQQEKI | Y32: 積区分 | Z32: NCHAR | AA32: 1 | AC32: RSFQBNKB[便区分] = "02"の場合セットされている。 | AD32: =COUNTIF($Y$7:$Y$10050, Y32) -> 1 | AE32: 第22版 変更
A33: =ROW()-6 -> 27 | B33: KSHSADKB | C33: 増減符号 | D33: PIC | E33: 1 | I33: 3 | N33: 0:無1:増2:減 | AC33: セットしている箇所・使用している箇所無し | AD33: =COUNTIF($Y$7:$Y$10050, Y33) -> 0
A34: =ROW()-6 -> 28 | B34: KSHSNRTN | C34: 路線外重量 | D34: DEC FIXED | E34: 3 | I34: 3 | AC34: セットしている箇所・使用している箇所無し | AD34: =COUNTIF($Y$7:$Y$10050, Y34) -> 0
A35: =ROW()-6 -> 29 | B35: KSHSNYMD | C35: 入力年月日 | D35: PIC | E35: 6 | I35: 3 | AD35: =COUNTIF($Y$7:$Y$10050, Y35) -> 0
A36: =ROW()-6 -> 30 | B36: KSHSTOCH | C36: 到着 | G36: G | I36: 2 | AD36: =COUNTIF($Y$7:$Y$10050, Y36) -> 0
A37: =ROW()-6 -> 31 | B37: KSHSDKB2 | C37: テ゛ータ区分 | D37: PIC | E37: 1 | I37: 3 | W37: RDSFIS | X37: RSFQTOKB | Y37: 到着済区分 | Z37: NCHAR | AA37: 1 | AD37: =COUNTIF($Y$7:$Y$10050, Y37) -> 2
A38: =ROW()-6 -> 32 | B38: KSHSGKB2 | C38: 画面区分 | D38: PIC | E38: 2 | I38: 3 | AD38: =COUNTIF($Y$7:$Y$10050, Y38) -> 0
A39: =ROW()-6 -> 33 | B39: KSHSTYMD | C39: 到着年月日 | D39: PIC | E39: 6 | I39: 3 | W39: RDSFIS | X39: RSFQTYMD | Y39: 到着年月日 | Z39: NCHAR | AA39: 8 | AD39: =COUNTIF($Y$7:$Y$10050, Y39) -> 1
A40: =ROW()-6 -> 34 | B40: KSHSTOTN | C40: 到着店コート゛ | D40: PIC | E40: 4 | I40: 3 | W40: RDSFIS | X40: RSFQCTCD | Y40: 着店コート゛ | Z40: NCHAR | AA40: 4 | AD40: =COUNTIF($Y$7:$Y$10050, Y40) -> 1
A41: =ROW()-6 -> 35 | B41: KSHSTTIM | C41: 到着時分 | D41: PIC | E41: 4 | I41: 3 | W41: RDSFIS | X41: RSFQTHMT | Y41: 到着時分 | Z41: NCHAR | AA41: 4 | AD41: =COUNTIF($Y$7:$Y$10050, Y41) -> 1
...

Sheet RDSFIS_REABAT02リビルド方針
A1: № | B1: 項目名 | C1: 物理名 | D1: 更新 | E1: BU30060P | F1: BU30032P | G1: BU30020P | H1: LS32020P | J1: BY30060P | K1: BY30012P | L1: BY30006P
A2: 1 | B2: 送付書ＮＯ | C2: RSFQSONO | D2: ダイレクト | E2: SST1SONO | F2: 追加時：SSOHSONO | G2: STH1SONO | H2: SS21SONO | J2: SST1SONO | K2: SRSYOKNO | L2: SYSRSOFU
A3: 2 | B3: 便区分 | C3: RSFQBNKB | D3: ダイレクト | E3: SST1BNKB | F3: 追加時：VKUNKSH.UNKOSHIR.運行車区分[VBKBYKKN] | J3: SST1BNKB
A4: 3 | B4: 発店コート゛ | C4: RSFQHTCD | D4: ダイレクト | E4: SST1HTCD | F4: 追加時：SSOHHTCD 更新時： SSOHKGMK = "1" or "3" の場合 SSOHHTCD <> "0" の場合、SSOHHTCD | G4: STH1RCID = "27" の場合 STH1TUTN | H4: SS21HATN | J4: SST1HTCD
A5: 4 | B5: 着店コート゛ | C5: RSFQCTCD | D5: ダイレクトは追加時のみ 更新時はリアル２ | E5: SST1CTCD | F5: 追加時：SSOHCTCD 更新時： SSOHKGMK = "1" or "3" の場合 SSOHCTCD <> "0" の場合、SSOHCTCD SSOHKGMK = "2" or "3" の場合 SSOHTHMT <> "0" の場合、SSOHCTCD | G5: STH1RCID = "27" の場合 STH1TOTN | H5: SS21ORTN | J5: SST1CTCD
A6: 5 | B6: 発送年月日 | C6: RSFQYMD1 | D6: ダイレクト | E6: SST1YMD1 | F6: 追加時：SSOHHYMD 更新時： SSOHKGMK = "1" or "3" の場合、SSOHHYMD | G6: STH1RCID = "27" の場合 STH1SYMD | H6: SS21STYY||SS21STMM||SS21STDD | J6: SST1YMD1
A7: 6 | B7: 発送時分 | C7: RSFQHHM1 | D7: ダイレクト | E7: SST1HHM1 | F7: 追加時：SSOHHHMM 更新時： SSOHKGMK = "1" or "3" の場合 SSOHHHMM <> "0" の場合、SSOHHHMM | G7: STH1RCID = "27" の場合 STH1SHM1 | H7: SS21STHH||SS21STMI | J7: SST1HHM1
A8: 7 | B8: 到着年月日 | C8: RSFQTYMD | D8: リアル２ | E8: SST1TYMD | F8: 追加時：SSOHTYMD 更新時： SSOHKGMK = "2" or "3" の場合 SSOHTHMT <> "0" の場合、SSOHTYMD | G8: STH2CYMD | J8: SST1TYMD
A9: 8 | B9: 到着時分 | C9: RSFQTHMT | D9: リアル２ | E9: SST1THMT | F9: 追加時：SSOHTHMT 更新時： SSOHKGMK = "2" or "3" の場合 SSOHTHMT <> "0" の場合、SSOHTHMT | G9: SSOHTHMT | J9: SST1THMT
A10: 9 | B10: 到着予定年月日 | C10: RSFQTOYO | D10: ダイレクト | E10: SST1TOYO | F10: 追加時：SSOHYOTI 更新時：SSOHKGMK = "1" or "3" の場合 SSOHYOTI <> "0" の場合、SSOHYOTI | G10: STH1RCID = "27" の場合 STH1TYDT | H10: SS21YYMD | J10: SST1TOYO
A11: 10 | B11: 発地コート゛ | C11: RSFQHCCD | D11: ダイレクト | E11: SST1HCCD | F11: 追加時：SSOHHHCD 更新時：SSOHKGMK = "1" or "3" の場合 SSOHHHCD <> "0" の場合、SSOHHHCD | G11: STH1RCID = "27" の場合 STH1HACH | H11: SS21HACH | J11: SST1HCCD
A12: 11 | B12: 着地コート゛ | C12: RSFQCCCD | D12: ダイレクト | E12: SST1CCCD | F12: 追加時：SSOHCCCD 更新時：SSOHKGMK = "1" or "3" の場合 SSOHCCCD <> "0" の場合、SSOHCCCD | G12: STH1RCID = "27" の場合 STH1CCHI | H12: SS21CCHI | J12: SST1CCCD
A13: 12 | B13: 最終扱店所コート゛ | C13: RSFQLSTN | D13: ダイレクト | E13: SST1LSTN | F13: 追加時：SSOHSSCD 更新時：SSOHKGMK = "1" or "3" の場合 SST1LSTN <> "0" の場合、SST1LSTN | G13: STH1RCID = "27" の場合 STH1LSTN | H13: SS21ATTN | J13: SST1LSTN
A14: 13 | B14: 積載社番 | C14: RSFQSHAA | D14: ダイレクト | E14: SST1SHAA | F14: 追加時：SSOHSHAB 更新時：SSOHKGMK = "1" or "3" の場合 SSOHSHAB <> "0" の場合、SSOHSHAB | G14: STH1RCID = "27" の場合 STH1SBAN | H14: SS21SBAN | J14: SST1SHAA
A15: 14 | B15: セミトレ社番 | C15: RSFQSHAB | D15: 更新箇所無し | E15: SST1SHAB | J15: SST1SHAB
A16: 15 | B16: 標屯 | C16: RSFQHYTO | D16: ダイレクト | E16: SST1HYTO | F16: 追加時：SSOHHYOT 更新時：SSOHKGMK = "1" or "3" の場合 SSOHSHAB <> "0" の場合、SSOHHYOT | G16: STH1RCID = "27" の場合 STH1HTON | H16: SS21HTON | J16: SST1HYTO
A17: 16 | B17: ｏｗ区分 | C17: RSFQOWKB | D17: ダイレクト | E17: SST1OWKB | F17: 追加時：SSOHOWKB 更新時： SSOHKGMK = "1" or "3" の場合 SSOHSHAB <> "0" の場合、SSOHOWKB | G17: STH1RCID = "27" の場合 STH1OWKB | H17: SS21OWKB | J17: SST1OWKB
A18: 17 | B18: 枚数（合計） | C18: RSFQFMCT | D18: リアル２ | E18: SST1FMCT | F18: SSOHMISU | J18: SST1FMCT
A19: 18 | B19: 個数（合計） | C19: RSFQFKAZ | D19: リアル２ | E19: SST1FKAZ | F19: SSOHKOSU | J19: SST1FKAZ
A20: 19 | B20: 重量（合計） | C20: RSFQGYUR | D20: リアル２ | E20: SST1GYUR | F20: SSOHWIGH | J20: SST1GYUR
A21: 20 | B21: 運賃（合計） | C21: RSFQFUNC | D21: リアル２ | E21: SST1FUNC | F21: SSOHUNTN | J21: SST1FUNC
A22: 21 | B22: 料金（合計） | C22: RSFQFRYO | D22: リアル２ | E22: SST1FRYO | F22: SSOHRYOK | J22: SST1FRYO
A23: 22 | B23: 枚数（直集・荷主） | C23: RSFQSMIS | D23: リアル２ | E23: SST1SMIS | F23: SSOHMIS1 | J23: SST1SMIS
A24: 23 | B24: 個数（直集・荷主） | C24: RSFQSSSU | D24: リアル２ | E24: SST1SSSU | F24: SSOHKOS1 | J24: SST1SSSU
A25: 24 | B25: 重量（直集・荷主） | C25: RSFQSSKG | D25: リアル２ | E25: SST1SSKG | F25: SSOHWIG1 | J25: SST1SSKG
A26: 25 | B26: 生運賃（直集・荷主） | C26: RSFQSNMU | D26: リアル２ | E26: SST1SNMU | F26: SSOHUNT1 | J26: SST1SNMU
A27: 26 | B27: 枚数（直集・他社） | C27: RSFQSTMM | D27: リアル２ | E27: SST1STMM | F27: SSOHMIS2 | J27: SST1STMM
A28: 27 | B28: 個数（直集・他社） | C28: RSFQSTKS | D28: リアル２ | E28: SST1STKS | F28: SSOHKOS2 | J28: SST1STKS
A29: 28 | B29: 重量（直集・他社） | C29: RSFQSTKG | D29: リアル２ | E29: SST1STKG | F29: SSOHWIG2 | J29: SST1STKG
... A46: 45 | B46: 生運賃（中継・他管内） | C46: RSFQQTNU | D46: リアル２ | E46: SST1QTNU | F46: SSOHUNT6 | J46: SST1QTNU
A47: 46 | B47: 一車保険料 | C47: RSFQQHKN | D47: ダイレクト | E47: SST1QHKN | F47: 追加時：SSOHISHR 更新時： SSOHKGMK = "1" or "3" の場合、SSOHISHR | G47: STH1RCID = "27" の場合 STH1HOKN | H47: SS21HOKN | J47: SST1QHKN
A48: 47 | B48: 積区分 | C48: RSFQQEKI | D48: ダイレクト | E48: SST1QEKI | F48: 追加時：SSOHSKKB 更新時： SSOHKGMK = "1" or "3" の場合、SSOHSKKB | G48: STH1RCID = "27" の場合 STH1TUOR | H48: SS21TUOR | J48: SST1QEKI
A49: 48 | B49: 卸区分 | C49: RSFQQROS | D49: リアル２ | E49: SST1QROS | F49: 追加時：SSOHORKB 更新時： SSOHKGMK = "2" or "3" の場合 SSOHTHMT <> "0" の場合、SSOHORKB | G49: STH2OROS | J49: SST1QROS
A50: 49 | B50: 削除区分 | C50: RSFQQKJY | D50: リアル２ | E50: SST1QKJY | F50: 追加時：SSOHSKJO 更新時： SSOHKGMK = "1" or "3" の場合、SSOHSKJO | G50: STH2HSTK | J50: SST1QKJY
A51: 50 | B51: 傭車コード | C51: RSFQYOCD | D51: ダイレクトは追加時のみ 更新時はリアル２ | E51: SST1YOCD | F51: 追加時：SSOHCODE | G51: STH1RCID = "27" の場合 STH1YOCD | H51: SS21YOCD | J51: SST1YOCD | K51: SRSYZOCD | L51: SYSRYOCZ
A52: 51 | B52: 形態 | C52: RSFQKKTI | D52: ダイレクトは追加時のみ 更新時はリアル２ | E52: SST1KKTI | F52: 追加時： VKUNKSH.UNKOSHIR.運行車区分[VBKBYKKN] = "02"の場合 VKRSYRYの取得レコードあり VKRSYRY.VTRRSYRY.形態区分[VTRRKEAA] VKRSYRYの取得レコードなし VKUNKSH.UNKOSHIR.使用形態[VBKGKITI] 以外の場合 SSOHKITI | G52: STH1RCID = "27" の場合 STH1KEIT | H52: SS21KEIT | J52: SST1KKTI | K52: SRSYZOKT | L52: SYSRKEIZ
A53: 52 | B53: 屯当単価 | C53: RSFQKTAT | D53: リアル２ | E53: SST1KTAT | J53: SST1KTAT | K53: ここで計算
A54: 53 | B54: 定額傭車料 | C54: RSFQKTGY | D54: ダイレクトは追加時のみ 更新時はリアル２ | E54: SST1KTGY | F54: 追加時： VKUNKSH.UNKOSHIR.運行車区分[VBKBYKKN] = "02"の場合 VKRSYRYの取得レコードあり VKRSYRY.VTRRSYRY.定額傭車料[VTRRTGYR] VKRSYRYの取得レコードなし VKUNKSH.UNKOSHIR.定額傭車料[VBKGTGKU] 以外の場合 SSOHTGYR | G54: STH1RCID = "27" の場合 STH1YORY | H54: SS21YORY | J54: SST1KTGY | K54: ここで計算
A55: 54 | B55: 傭車料 | C55: RSFQKYSR | D55: リアル２ | E55: SST1KYSR | J55: SST1KYSR
A56: 55 | B56: 直集 | C56: RSFQFKJK | D56: リアル２ | E56: SST1FKJK | F56: RSFQFKJK | J56: SST1FKJK
...
